BEGIN:VCALENDAR
VERSION:2.0
METHOD:PUBLISH
PRODID:-//Tendenci - The Open Source AMS for Associations//Tendenci Codeba
 se MIMEDIR//EN
BEGIN:VEVENT
DESCRIPTION:--- This iCal file does *NOT* confirm registration.\nEvent det
 ails subject to change. ---\nhttps://www.sssrocketry.com/events/7/\n\nEven
 t Title: Monthly Launch\nStart Date / Time: Jan 14, 2022 00:00 AM America/
 Phoenix\nLocation: \nJoin us for our monthly launch at the Kofa launch sit
 e! Everyone is welcome as are rockets of all sizes.\n \nDirections to Kofa
  Launch Site\nSSS Launch Procedures\nRange Layout Guide\nGenerator Guideli
 nes\n \nFor special group pricing, please contact us.\n\n--- This iCal fil
 e does *NOT* confirm registration.Event details subject to change. ---\n\n
 --- By Tendenci - The Open Source AMS for Associations ---\n
UID:uid7@sssrocketry.com
SUMMARY:Monthly Launch
DTSTART:20220114T070000Z
DTEND:20220117T065959Z
CLASS:PUBLIC
PRIORITY:5
DTSTAMP:20260419T155217Z
TRANSP:OPAQUE
SEQUENCE:0
X-ALT-DESC;FMTTYPE=text/html:<div>--- This iCal file does *NOT* confirm re
 gistration.Event details subject to change. ---</div><h1>Event Title: Mont
 hly Launch</h1><div>https://www.sssrocketry.com/events/7/</div><br /><div>
 When: Jan 14, 2022 00:00 AM America/Phoenix</div><br /><div><p>Join us for
  our monthly launch at the Kofa launch site! Everyone is welcome as are ro
 ckets of all sizes.</p> <p>&nbsp\;</p> <p><a href="/launch-site/">Directio
 ns to Kofa Launch Site</a></p> <p><a href="/launch-procedures/">SSS Launch
  Procedures</a></p> <p><a href="/range-layout-guide/">Range Layout Guide</
 a></p> <p><a href="/generator-guidelines/">Generator Guidelines</a></p> <p
 >&nbsp\;</p> <p>For special group pricing, please <a href="/contact/">cont
 act us</a>.</p></div><div>--- This iCal file does *NOT* confirm registrati
 on.Event details subject to change. ---</div><div>--- Tendenci&reg\; Softw
 are by <a href="https://www.tendenci.com">tendenci.com</a> - The Open Sour
 ce AMS for Associations ---</div>
BEGIN:VALARM
TRIGGER:-PT30M
ACTION:DISPLAY
DESCRIPTION:Reminder
END:VALARM
END:VEVENT
END:VCALENDAR
