BEGIN:VCALENDAR
VERSION:2.0
METHOD:PUBLISH
PRODID:-//Tendenci - The Open Source AMS for Associations//Tendenci Codeba
 se MIMEDIR//EN
BEGIN:VEVENT
DESCRIPTION:--- This iCal file does *NOT* confirm registration.\nEvent det
 ails subject to change. ---\nhttps://www.sssrocketry.com/events/9/\n\nEven
 t Title: Monthly Launch\nStart Date / Time: Feb 18, 2022 00:00 AM America/
 Phoenix\nLocation: \nJoin us for our monthly launch at the Kofa launch sit
 e! Everyone is welcome as are rockets of all sizes.\n \nThe launch runs Fr
 iday through Sunday.\nFriday is low power only, typically from noon to sun
 set.\nSaturday is both low and high power from 8:00 to 17:00.\nSunday is b
 oth low and high power from 8:00 to noon.\nThere may be a night launch on 
 Saturday, we don't know if it will be approved until a few days before the
  launch, so watch for announcements on our Facebook page just before launc
 h.\n \nDirections to Kofa Launch Site\nSSS Launch Procedures\nRange Layout
  Guide\nGenerator Guidelines\n \nFor special group pricing, please contact
  us.\n\n--- This iCal file does *NOT* confirm registration.Event details s
 ubject to change. ---\n\n--- By Tendenci - The Open Source AMS for Associa
 tions ---\n
UID:uid9@sssrocketry.com
SUMMARY:Monthly Launch
DTSTART:20220218T070000Z
DTEND:20220221T065959Z
CLASS:PUBLIC
PRIORITY:5
DTSTAMP:20260419T155233Z
TRANSP:OPAQUE
SEQUENCE:0
X-ALT-DESC;FMTTYPE=text/html:<div>--- This iCal file does *NOT* confirm re
 gistration.Event details subject to change. ---</div><h1>Event Title: Mont
 hly Launch</h1><div>https://www.sssrocketry.com/events/9/</div><br /><div>
 When: Feb 18, 2022 00:00 AM America/Phoenix</div><br /><div><p>Join us for
  our monthly launch at the Kofa launch site! Everyone is welcome as are ro
 ckets of all sizes.</p> <p>&nbsp\;</p> <p>The launch runs Friday through S
 unday.</p> <p>Friday is low power only, typically from noon to sunset.</p>
  <p>Saturday is both low and high power from 8:00 to 17:00.</p> <p>Sunday 
 is both low and high power from 8:00 to noon.</p> <p>There may be a night 
 launch on Saturday, we don't know if it will be approved until a few days 
 before the launch, so watch for announcements on our Facebook page just be
 fore launch.</p> <p>&nbsp\;</p> <p><a href="/launch-site/">Directions to K
 ofa Launch Site</a></p> <p><a href="/launch-procedures/">SSS Launch Proced
 ures</a></p> <p><a href="/range-layout-guide/">Range Layout Guide</a></p> 
 <p><a href="/generator-guidelines/">Generator Guidelines</a></p> <p>&nbsp\
 ;</p> <p>For special group pricing, please <a href="/contact/">contact us<
 /a>.</p></div><div>--- This iCal file does *NOT* confirm registration.Even
 t details subject to change. ---</div><div>--- Tendenci&reg\; Software by 
 <a href="https://www.tendenci.com">tendenci.com</a> - The Open Source AMS 
 for Associations ---</div>
BEGIN:VALARM
TRIGGER:-PT30M
ACTION:DISPLAY
DESCRIPTION:Reminder
END:VALARM
END:VEVENT
END:VCALENDAR
